BEGIN:VCALENDAR
VERSION:2.0
PRODID:-//Long Island Alliance for Peaceful Alternatives - ECPv6.15.20//NONSGML v1.0//EN
CALSCALE:GREGORIAN
METHOD:PUBLISH
X-ORIGINAL-URL:https://www.longislandpeace.org
X-WR-CALDESC:Events for Long Island Alliance for Peaceful Alternatives
REFRESH-INTERVAL;VALUE=DURATION:PT1H
X-Robots-Tag:noindex
X-PUBLISHED-TTL:PT1H
BEGIN:VTIMEZONE
TZID:America/New_York
BEGIN:DAYLIGHT
TZOFFSETFROM:-0500
TZOFFSETTO:-0400
TZNAME:EDT
DTSTART:20130310T070000
END:DAYLIGHT
BEGIN:STANDARD
TZOFFSETFROM:-0400
TZOFFSETTO:-0500
TZNAME:EST
DTSTART:20131103T060000
END:STANDARD
BEGIN:DAYLIGHT
TZOFFSETFROM:-0500
TZOFFSETTO:-0400
TZNAME:EDT
DTSTART:20140309T070000
END:DAYLIGHT
BEGIN:STANDARD
TZOFFSETFROM:-0400
TZOFFSETTO:-0500
TZNAME:EST
DTSTART:20141102T060000
END:STANDARD
BEGIN:DAYLIGHT
TZOFFSETFROM:-0500
TZOFFSETTO:-0400
TZNAME:EDT
DTSTART:20150308T070000
END:DAYLIGHT
BEGIN:STANDARD
TZOFFSETFROM:-0400
TZOFFSETTO:-0500
TZNAME:EST
DTSTART:20151101T060000
END:STANDARD
BEGIN:DAYLIGHT
TZOFFSETFROM:-0500
TZOFFSETTO:-0400
TZNAME:EDT
DTSTART:20160313T070000
END:DAYLIGHT
BEGIN:STANDARD
TZOFFSETFROM:-0400
TZOFFSETTO:-0500
TZNAME:EST
DTSTART:20161106T060000
END:STANDARD
END:VTIMEZONE
BEGIN:VEVENT
DTSTART;VALUE=DATE:20151028
DTEND;VALUE=DATE:20151029
DTSTAMP:20260424T021158
CREATED:20151001T054956Z
LAST-MODIFIED:20151001T054956Z
UID:861-1445990400-1446076799@www.longislandpeace.org
SUMMARY:Day of Dialogue
DESCRIPTION:
URL:https://www.longislandpeace.org/event/day-of-dialogue-2/
LOCATION:Hofstra University\, Hempstead
CATEGORIES:Actions,Lectures,Panels,Screenings,Talks
END:VEVENT
BEGIN:VEVENT
DTSTART;TZID=America/New_York:20151001T190000
DTEND;TZID=America/New_York:20151001T203000
DTSTAMP:20260424T021158
CREATED:20150929T172321Z
LAST-MODIFIED:20151001T053754Z
UID:847-1443726000-1443731400@www.longislandpeace.org
SUMMARY:Day of Nonviolence Commemoration
DESCRIPTION:Please join us as we celebrate the annual International Day of Nonviolence. \nThursday\, October 1st\nHofstra University – Cultural Center Theater\n7pm – FREE & OPEN TO PUBLIC \nPerformances by Hofstra a capella groups\, Makin’ Treble and Hofbeats\nSpecial performance by The Peace Poets!\nhttp://thepeacepoets.com/\nhttps://www.facebook.com/ThePeacePoets \nRemarks by Professor Michael D’Innocenzo\, distinguished Professor of History Emeritus and Founding Member of the Hofstra Center for Civic Engagement
URL:https://www.longislandpeace.org/event/oct-1-day-of-nonviolence-commemoration-at-hofstra/
LOCATION:Hofstra University\, Cultural Center Theater\, Hempstead\, NY\, United States
CATEGORIES:Actions,Talks
END:VEVENT
BEGIN:VEVENT
DTSTART;TZID=America/New_York:20150523T100000
DTEND;TZID=America/New_York:20150523T120000
DTSTAMP:20260424T021158
CREATED:20150519T165739Z
LAST-MODIFIED:20151001T053854Z
UID:775-1432375200-1432382400@www.longislandpeace.org
SUMMARY:Annual Memorial Day Vigil
DESCRIPTION:A day of rememberance and commitment to end war.
URL:https://www.longislandpeace.org/event/memorial-day-vigil-may-23-at-jones-beach-at-10-a-m/
LOCATION:Jones Beach\, Long Island
CATEGORIES:Actions,Vigil
ORGANIZER;CN="Pax Christi LI ":MAILTO:paxchristili@aol.com 
END:VEVENT
BEGIN:VEVENT
DTSTART;VALUE=DATE:20150422
DTEND;VALUE=DATE:20150423
DTSTAMP:20260424T021158
CREATED:20150408T161122Z
LAST-MODIFIED:20150408T161122Z
UID:763-1429660800-1429747199@www.longislandpeace.org
SUMMARY:Earth Day
DESCRIPTION:More information coming soon.
URL:https://www.longislandpeace.org/event/earth-day/
CATEGORIES:Actions,Debates,Lectures,Panels,Screenings,Talks
END:VEVENT
BEGIN:VEVENT
DTSTART;TZID=America/New_York:20150412T120000
DTEND;TZID=America/New_York:20150412T160000
DTSTAMP:20260424T021158
CREATED:20150408T160912Z
LAST-MODIFIED:20150408T160912Z
UID:759-1428840000-1428854400@www.longislandpeace.org
SUMMARY:Justice for Kenny Lazo Rally
DESCRIPTION:April 12th\, 2015 marks the 7th year anniversary of Kenny Lazo’s police murder by 5 Suffolk County police officers (Chris Talt\, William Judge\, John Newton\, James Scimone and Joseph Link). \nEvery year the Justice for Kenny Coalition hosts Long Island’s only annual anti-Police Brutality march on the island that is far too familiar with racial profiling\, police abuse\, corruption\, and murder. \nThis year like every year we will be hosting the Annual March on Long Island Against Police Brutality on Sunday\, April 12th\, 2015\, from 12PM-4PM\, meeting outside the Suffolk County Police Department\, 3rd Precinct at 1630 5th Avenue in Bay Shore\, Long Island\, New York. \nFor folks living in NYC\, we provide FREE bus transportation every year so that you can come participate in this powerful rally. Reserve your bus tickets at: http://justiceforkenny.org/ \nCome out and join us for this year’s annual march and sign up early to help us with outreach\, fundraising and organizing! With the recent emergence of police brutality in the spotlight nationwide\, we want this year to be the biggest march yet!
URL:https://www.longislandpeace.org/event/justice-for-kenny-lazo-rally/
LOCATION:Suffolk County Police Department\, 3rd Precint\, 1630 5th Ave\, Bay Shore
CATEGORIES:Actions,Vigil
END:VEVENT
BEGIN:VEVENT
DTSTART;TZID=America/New_York:20150411T120000
DTEND;TZID=America/New_York:20150411T160000
DTSTAMP:20260424T021158
CREATED:20150408T160405Z
LAST-MODIFIED:20150408T160520Z
UID:756-1428753600-1428768000@www.longislandpeace.org
SUMMARY:Economic and Social Justice Rally
DESCRIPTION:The North Country Peace Group will be hosting their annual March and Rally for peace and for Economic and Social Justice will be held this Saturday in Port Jefferson. \nWe will march through Port Jefferson\, carrying signs\, distributing literature\, and speaking with the many shoppers and passersby. At the conclusion of the march\, we will rally.  We have scheduled four main speakers. Following these speakers\, there will be an open mic\, for brief speeches.  You or a member of your group will be welcome to speak to the gathering.\nWe will have plenty of signs to share\, but do feel free to bring your own signs or banners if you would like.\nPlease keep in mind that\, if there is substantial rain on the 11th\, we will hold the march and rally on the 12th. If we must postpone\, we will indicate this on our Facebook page\, at facebook.com/NorthCountryPeaceGroup.
URL:https://www.longislandpeace.org/event/economic-and-social-justice-rally/
LOCATION:Port Jefferson
CATEGORIES:Actions,Vigil
END:VEVENT
BEGIN:VEVENT
DTSTART;VALUE=DATE:20150324
DTEND;VALUE=DATE:20150327
DTSTAMP:20260424T021158
CREATED:20150408T155641Z
LAST-MODIFIED:20150408T155641Z
UID:752-1427155200-1427414399@www.longislandpeace.org
SUMMARY:George W. Bush Conference
DESCRIPTION:Hofstra University is pleased to announce that its Conference on the George W. Bush Presidency will take place March 24-26\, 2015. Hofstra has a long and distinguished tradition of hosting conferences on the administrations of all the Presidents of the United States who have served during the University’s lifetime\, from Franklin Delano Roosevelt forward. During each conference\, Hofstra brings together scholars\, policy makers\, and journalists for a series of panels and roundtables to discuss a president’s campaign\, political leadership\, policy agenda\, and legacy. The University has published volumes of selected articles and commentary from every conference\, which have become standard scholarly volumes and early oral histories of each presidency. \nFor a full list of speakers\, biographies\, and a schedule\, please visit: http://www.hofstra.edu/Community/culctr/gwb/gwb-program.html
URL:https://www.longislandpeace.org/event/george-w-bush-conference/
CATEGORIES:Actions,Debates,Lectures,Panels,Talks
END:VEVENT
BEGIN:VEVENT
DTSTART;VALUE=DATE:20150311
DTEND;VALUE=DATE:20150312
DTSTAMP:20260424T021158
CREATED:20150217T035015Z
LAST-MODIFIED:20150217T035015Z
UID:731-1426032000-1426118399@www.longislandpeace.org
SUMMARY:Globalization Day
DESCRIPTION:
URL:https://www.longislandpeace.org/event/globalization-day/
CATEGORIES:Actions,Debates,Lectures,Panels,Screenings,Talks,Vigil
END:VEVENT
BEGIN:VEVENT
DTSTART;TZID=America/New_York:20150226T180000
DTEND;TZID=America/New_York:20150226T200000
DTSTAMP:20260424T021158
CREATED:20150217T034948Z
LAST-MODIFIED:20150217T034948Z
UID:730-1424973600-1424980800@www.longislandpeace.org
SUMMARY:Peace Fellows
DESCRIPTION:
URL:https://www.longislandpeace.org/event/peace-fellows/
CATEGORIES:Actions,Talks
END:VEVENT
BEGIN:VEVENT
DTSTART;VALUE=DATE:20141029
DTEND;VALUE=DATE:20141030
DTSTAMP:20260424T021158
CREATED:20141007T031433Z
LAST-MODIFIED:20141018T155722Z
UID:676-1414540800-1414627199@www.longislandpeace.org
SUMMARY:Hofstra’s Day of Dialogue
DESCRIPTION:  \nHofstra University’s Center for Civic Engagement\nDay of Dialogue\, October 29\, 2014\nSocial Responsibility and Human Security  \n  \n9:05-10:10 AM\, Cultural Center Theater\nDefining and Inspiring Civic Engagement\, Social Responsibility\, and Human Security \n \n9:30-11:00 AM\, Student Center Theater\nReexamining Presidential leadership on Civil Rights 60 years after Brown vs BOE and 50 years after the Civil Rights Act\nModerator: Prof. Meena Bose\, Dept. of Political Science\, Director\, Peter S. Kalikow Center  \nHoward Dean\, Ed Rollins\, Political Commentators\nNikole Hannah-Jones\, Pro-Publica \n \n10:10-11:05 AM\, Cultural Center Theater\nPolice-Community Relations in the Wake of Ferguson and What Would Dr. King Do in Ferguson and 2014 America? \nJason Starr\, New York Civil Liberties Union\nProf. Michael D’Innocenzo\, The Harry H. Wachtel Distinguished Professor for the Study of Non-Violent Social Change \n \n11:15-12:40 PM\, Cultural Center Theater\n“Game Over: How Politics Has Always Turned the Sports World Upside Down” \nDave Zirin\, sports journalist\nIntroduction by Prof. Mary Anne Trasciatti \, School of Communications \n \n12:50-1:45 PM\, Plaza Room West\nRevitalizing Hofstra’s Community with Smart Growth:   \nModerator:  Jeannine Maynard\, Greater Uniondale Area Action Committee \nProf. Kari Jensen\, Dept. of Global Studies and Geography\nScott Smith\, CEO\, GreenWay Environmental\nEdward Hagenmiller\, Hofstra alumnus\nJoanna Soares\, Hofstra student \n \n12:50-1:45 PM\, Cultural Center Theater\nThe Gaza Crisis and its Aftermath \nModerator: Prof. Carolyn Eisenberg\, Dept. of History\nJosh Ruebner\, National Advocacy Director of the US Campaign to End the Israeli Occupation\,  Washington\, D.C.\nProf. Stephanie Nanes\, Dept. of Political Science \n \n1:55-2:50 PM\, Cultural Center Theater\nUnderstanding ISIS:  Politics\, Religion and the Media  \nModerator: Prof. Hussein Rashid\, Dept. of Religion\, Hofstra University\nDr. Janine Davidson\, Senior Fellow for Defense Policy\, Council on Foreign Relations\nHaroon Moghul\, Fellow\, Institute for Social Policy and Understanding \n \n2:55-4:20 PM\, Cultural Center Theater\nEvaluation of Obama’s Foreign Policy: Ukraine\, the Middle East   \nModerator: Prof. Paul Fritz\, Dept. of Political Science\nRobert Parry\, Consortium News\nDr. Janine Davidson\, Senior Fellow\, Council on Foreign Relations \n \n2:55-4:20 PM\, Library 246\nSocial Responsibility and Human Security:  The Vital Role of Community Organizations \nModerator:  Prof. Greg Maney\, Dept. of Sociology\, Co-Director\, Center for Civic Engagement \n \n4:25-5:55 PM\, Cultural Center Theater\nLong-Term Peace Prospects in the Mideast  \nModerator: Prof. Carolyn Eisenberg\, HU Dept. of History\nJosh Ruebner\, National Advocacy Director of the US Campaign to End the Israeli Occupation\, Washington\, D.C.\nProf. Monroe Freedman\, Hofstra University School of Law \n5:15-6:10 PM\, Library 246\nClimate March Roundtable: A Call for Action \nModerator:  Prof. Robert Brinkmann\, HU Dept. of Sustainability Studies\nwith Climate March participants \n6:20-7:45 PM\, Library 246\nPolitical Fix:  How Do We Get American Politics Back on Track? and “Think 2040” \nProf. Michael D’Innocenzo\, The Harry H. Wachtel Distinguished Teaching Professor for the Study of Non-Violent Social Change\nLydia Bowers\, Roosevelt Institute\nAlyssa O’Brien\, Hofstra University student\n \n8:00 PM\, Library 246\nCampus Conversation: Sexual Violence on College Campuses \n  \n  \nFor more information contact Prof. Linda Longmire\, Linda.A.Longmire@hofstra.edu or Brianna Borresen\, bborre4@pride.hofstra.edu
URL:https://www.longislandpeace.org/event/day-of-dialogue/
LOCATION:Hofstra University\, Hempstead
CATEGORIES:Actions,Debates,Lectures,Panels,Screenings,Talks
END:VEVENT
BEGIN:VEVENT
DTSTART;TZID=America/New_York:20141023T180000
DTEND;TZID=America/New_York:20141023T200000
DTSTAMP:20260424T021158
CREATED:20141007T031306Z
LAST-MODIFIED:20141015T033914Z
UID:674-1414087200-1414094400@www.longislandpeace.org
SUMMARY:Peace Matters at Hofstra
DESCRIPTION:
URL:https://www.longislandpeace.org/event/peace-matters-at-hofstra-2/
LOCATION:Brower Hall Rm. 101\, Hofstra University\, Hempstead
CATEGORIES:Actions,Screenings,Talks
END:VEVENT
BEGIN:VEVENT
DTSTART;TZID=America/New_York:20141002T190000
DTEND;TZID=America/New_York:20141002T210000
DTSTAMP:20260424T021158
CREATED:20140923T225219Z
LAST-MODIFIED:20140924T201755Z
UID:648-1412276400-1412283600@www.longislandpeace.org
SUMMARY:Int'l Day of Nonviolence w/ The Peace Poets
DESCRIPTION:International Day of Nonviolence \nRemarks by Michael D’Innocenzo\, Harry Wachtel Distinguished Teaching Professor for the Study of Non-Violent Social Change\, on “We Are the Ones We Have Been Waiting For” \nFollowed by a performance by The Peace Poets\, a collective of artists from the Bronx that celebrate\, examine\, and advocate for life through music and poetry. \n7pm – Cultural Center Theater\, Hofstra University
URL:https://www.longislandpeace.org/event/intl-day-of-nonviolence-w-the-peace-poets/
CATEGORIES:Actions,Lectures,Talks
END:VEVENT
BEGIN:VEVENT
DTSTART;VALUE=DATE:20140921
DTEND;VALUE=DATE:20140922
DTSTAMP:20260424T021158
CREATED:20140816T023701Z
LAST-MODIFIED:20140816T023701Z
UID:622-1411257600-1411343999@www.longislandpeace.org
SUMMARY:People’s Climate March NYC
DESCRIPTION:With our future on the line and the whole world watching\, we’re taking a stand to bend the course of history. \nOn Sunday\, September 21st we’ll take to the streets to demand the world we know is within our reach: a world with an economy that works for people and the planet; a world safe from the ravages of climate change; a world with good jobs\, clean air and water\, and healthy communities. \nTo change everything\, we need everyone on board. \nSunday\, September 21 in New York City. Join us. \nhttp://peoplesclimate.org/march/
URL:https://www.longislandpeace.org/event/peoples-climate-march-nyc/
CATEGORIES:Actions,Vigil
END:VEVENT
BEGIN:VEVENT
DTSTART;TZID=America/New_York:20140918T180000
DTEND;TZID=America/New_York:20140918T200000
DTSTAMP:20260424T021158
CREATED:20140816T023439Z
LAST-MODIFIED:20140906T025048Z
UID:621-1411063200-1411070400@www.longislandpeace.org
SUMMARY:Peace Matters at Hofstra
DESCRIPTION:We will start to host monthly meetings called PEACE MATTERS AT HOFSTRA to continue our conversations\, watch films\, plan actions on campus to increase awareness on global issues. This will be completely run by students. \nSo join us Thursday 9/18 to catch up\, eat pizza and make signs for the Sept. 21 NYC People’s Climate March ! \nHofstra University\, Brower Hall Room #101 @ 6pm \n \n 
URL:https://www.longislandpeace.org/event/peace-matters-at-hofstra/
LOCATION:Brower Hall Rm 101
CATEGORIES:Actions,Talks
END:VEVENT
BEGIN:VEVENT
DTSTART;TZID=America/New_York:20140829T100000
DTEND;TZID=America/New_York:20140829T140000
DTSTAMP:20260424T021158
CREATED:20140815T154406Z
LAST-MODIFIED:20140815T154406Z
UID:618-1409306400-1409320800@www.longislandpeace.org
SUMMARY:2014 Stand Up for the Homeless
DESCRIPTION:2014 STAND UP FOR THE HOMELESS \n“Unfortunately\, Long Island is becoming a typical metro-suburban community where homelessness is often seen as something off the radar\,” said Suffolk County Social Services Commissioner Gregory J. Blass. “There is a gap between the homeless and people who can help\, and events like Stand Up for the Homeless help to bridge that gap. \n \nFriday\, August 29th\, 2014 10a.m. to 2p.m.\nSt. Joseph’s College in Patchogue (Exit 52 off Sunrise Highway)\n155 West Roe Blvd. Patchogue 11772\nFREE Transportation to and from the event!\nServices Include:\nAdult & Children’s Clothing\, Health and Dental Screenings\, Food\, Counseling\, Employment Opportunities\, Veteran’s Services\, and much more!\nFor more information please contact Michael Gudema at:\n(631) 854-9930 Or Michael.gudema@suffolkcountyny.gov
URL:https://www.longislandpeace.org/event/2014-stand-up-for-the-homeless/
LOCATION:St. Joseph’s College\, 155 West Roe Blvd. \, Patchogue\, 11772
CATEGORIES:Actions
END:VEVENT
BEGIN:VEVENT
DTSTART;TZID=America/New_York:20140806T191500
DTEND;TZID=America/New_York:20140806T213000
DTSTAMP:20260424T021158
CREATED:20140803T211636Z
LAST-MODIFIED:20140803T222642Z
UID:536-1407352500-1407360600@www.longislandpeace.org
SUMMARY:South Country Peace Vigil
DESCRIPTION:On Wednesday August 6th\, the South Country Peace Group will be holding their vigil to commemorate the atomic bombings of Hiroshima and Nagasaki \nThe silent procession will start at 7:15pm from the sidewalk outside the pillars of Woodland Cemetery on Station Road just south of Head of Neck Road. It will end at the bay where we will gather for words and music. \n \n 
URL:https://www.longislandpeace.org/event/south-country-peace-vigil/
CATEGORIES:Actions,Vigil
END:VEVENT
BEGIN:VEVENT
DTSTART;TZID=America/New_York:20140524T070000
DTEND;TZID=America/New_York:20140524T100000
DTSTAMP:20260424T021158
CREATED:20140802T175035Z
LAST-MODIFIED:20140802T175122Z
UID:526-1400914800-1400925600@www.longislandpeace.org
SUMMARY:Memorial Day Vigil
DESCRIPTION:Saturday\, May 24\, Memorial Day Vigil \n      A Time to Remember                                                \n9 AM – Noon \nOn May 24 of Memorial Day weekend\, thousands of Long Islanders will flock to Jones Beach for the Bethpage Air Show which demonstrates military airpower and weapons. \nOn that same day\, peace activists from Long Island will gather for their Tenth Annual Peace Vigil to remind beach-goers that Memorial Day is a sacred day dedicated by our nation to mourn the loss of American lives killed in war. \n\nCome to distribute flyers explaining the true meaning of Memorial Day\nCome to reflect upon the victims of wars\, still suffering in mind and spirit.\nCome to honor the fallen.\nCome to call for an end to all wars.\n\nPark at Field 4 – Come early for best parking space!!!  Fee $10 \nAssemble by the plaza near the “needle” tower. \nWeather alert May 24 7 AM  www.paxchristilongisland.org \nFurther details: Email paxchristili@aol.com \nTo help set up\, please arrive by 8:30 a.m. \n PLEASE WEAR A BLACK T SHIRT OR TOP \nOrganized by Pax Christi LI in partnership with Code Pink LI\, LI Alliance for Peaceful Alternatives\, North Country Peace Group\, South Country Peace Group\, PeaceSmiths\, SOAW\, Suffolk Peace Network\, Veterans for Peace LI\, Women in Black
URL:https://www.longislandpeace.org/event/memorial-day-vigil/
CATEGORIES:Actions,Vigil
END:VEVENT
END:VCALENDAR