BEGIN:VCALENDAR
VERSION:2.0
PRODID:-//Long Island Alliance for Peaceful Alternatives - ECPv6.15.20//NONSGML v1.0//EN
CALSCALE:GREGORIAN
METHOD:PUBLISH
X-WR-CALNAME:Long Island Alliance for Peaceful Alternatives
X-ORIGINAL-URL:https://www.longislandpeace.org
X-WR-CALDESC:Events for Long Island Alliance for Peaceful Alternatives
REFRESH-INTERVAL;VALUE=DURATION:PT1H
X-Robots-Tag:noindex
X-PUBLISHED-TTL:PT1H
BEGIN:VTIMEZONE
TZID:America/New_York
BEGIN:DAYLIGHT
TZOFFSETFROM:-0500
TZOFFSETTO:-0400
TZNAME:EDT
DTSTART:20120311T070000
END:DAYLIGHT
BEGIN:STANDARD
TZOFFSETFROM:-0400
TZOFFSETTO:-0500
TZNAME:EST
DTSTART:20121104T060000
END:STANDARD
BEGIN:DAYLIGHT
TZOFFSETFROM:-0500
TZOFFSETTO:-0400
TZNAME:EDT
DTSTART:20130310T070000
END:DAYLIGHT
BEGIN:STANDARD
TZOFFSETFROM:-0400
TZOFFSETTO:-0500
TZNAME:EST
DTSTART:20131103T060000
END:STANDARD
BEGIN:DAYLIGHT
TZOFFSETFROM:-0500
TZOFFSETTO:-0400
TZNAME:EDT
DTSTART:20140309T070000
END:DAYLIGHT
BEGIN:STANDARD
TZOFFSETFROM:-0400
TZOFFSETTO:-0500
TZNAME:EST
DTSTART:20141102T060000
END:STANDARD
BEGIN:DAYLIGHT
TZOFFSETFROM:-0500
TZOFFSETTO:-0400
TZNAME:EDT
DTSTART:20150308T070000
END:DAYLIGHT
BEGIN:STANDARD
TZOFFSETFROM:-0400
TZOFFSETTO:-0500
TZNAME:EST
DTSTART:20151101T060000
END:STANDARD
END:VTIMEZONE
BEGIN:VEVENT
DTSTART;TZID=America/New_York:20140918T180000
DTEND;TZID=America/New_York:20140918T200000
DTSTAMP:20260424T045733
CREATED:20140816T023439Z
LAST-MODIFIED:20140906T025048Z
UID:621-1411063200-1411070400@www.longislandpeace.org
SUMMARY:Peace Matters at Hofstra
DESCRIPTION:We will start to host monthly meetings called PEACE MATTERS AT HOFSTRA to continue our conversations\, watch films\, plan actions on campus to increase awareness on global issues. This will be completely run by students. \nSo join us Thursday 9/18 to catch up\, eat pizza and make signs for the Sept. 21 NYC People’s Climate March ! \nHofstra University\, Brower Hall Room #101 @ 6pm \n \n 
URL:https://www.longislandpeace.org/event/peace-matters-at-hofstra/
LOCATION:Brower Hall Rm 101
CATEGORIES:Actions,Talks
END:VEVENT
BEGIN:VEVENT
DTSTART;TZID=America/New_York:20140917T150000
DTEND;TZID=America/New_York:20140917T162000
DTSTAMP:20260424T045733
CREATED:20140906T024806Z
LAST-MODIFIED:20140906T024824Z
UID:636-1410966000-1410970800@www.longislandpeace.org
SUMMARY:Beyond Growth or Beyond Capitalism - Dr. Richard Smith
DESCRIPTION:Foreign Policy Challenges: Current Conflicts and Global Climate Change \nWednesday\, September 17th 2014 \n2:55pm – 4:20pm \nLeo A. Guthart Cultural Center Theatre\, Axinn Library \n Beyond Growth or Beyond Capitalism \nDr. Richard Smith \nRichard Smith is an economic historian who has taught at East-West Center in Honolulu and Rutgers University.  His written works on ecology have been published in The Ecologist\, The International Journal of Ecological Economics and Statistics\, Real-World Economics Review and may other journals and websites.  Dr. Smith’s newest book ‘To Save a Planet\, Turn the World Upside Down’ is scheduled for publication in 2015. \n  \nFor further information: 516-463-5595
URL:https://www.longislandpeace.org/event/636/
CATEGORIES:Lectures,Talks
END:VEVENT
BEGIN:VEVENT
DTSTART;TZID=America/New_York:20140219T111500
DTEND;TZID=America/New_York:20140219T123000
DTSTAMP:20260424T045733
CREATED:20140204T050049Z
LAST-MODIFIED:20140802T175133Z
UID:449-1392808500-1392813000@www.longislandpeace.org
SUMMARY:Hofstra Spring 2014 Lectures
DESCRIPTION:THE INTERNATIONAL SCENE AT HOFSTRA \nDepartments of Economics\, History and Sociology \nThe Center for Civic Engagement\, \nLong Island Teachers for Human Rights\, The Cultural Center \nand The Long Island Alliance for Peaceful Alternatives Present: \nThe International Scene Spring 2014 Lectures: \nECONOMIC AND SECURITY CHALLENGES  \nWed. FEBRUARY 19: \nSpying on Democracy: Government Surveillance\, \n          Corporate Power and Public Resistance \nSpeaker: HEIDI BOGHOSIAN\, National Lawyers Guild \n11:15 a.m.-12:30 p.m. Guthart Cultural Center Theater\,  \nAxinn Library\, South Campus\, Hofstra University  \n  \nWed. MARCH 5:  Rethinking Keynes: A Radical  \n                                  Approach to Joblessness \nSpeaker: PAVLINA TCHERNEVA\, Professor of Economics\,Bard College \n11:15a.m.-12:30p.m.\, Guthart Cultural Center Theater\,  \nAxinn Library\, South Campus\, Hofstra University \n  \nWed. MARCH 12: The Changing Face of Empire:  \n                          The Use of Drones and Special Forces \nSpeaker: NICK TURSE\, Author of Kill Anything That Moves: The Real American War in Vietnam\, Fellow at The Nation Institute  and managing editor for Tom.Dispatch.com \n12:50-2:00 p.m.   105 BRESLIN HALL\,  \nSOUTH CAMPUS\, Hofstra University \nInternational Scene Co-Directors: Professors Martin Melkonian\, Linda Longmire and Carolyn Eisenberg. For information: 516-463-5595
URL:https://www.longislandpeace.org/event/hofstra-spring-2014-lectures/
LOCATION:Hofstra University
CATEGORIES:Lectures,Panels,Talks
END:VEVENT
BEGIN:VEVENT
DTSTART;TZID=America/New_York:20131009T111500
DTEND;TZID=America/New_York:20131009T123000
DTSTAMP:20260424T045733
CREATED:20131004T235853Z
LAST-MODIFIED:20140802T175207Z
UID:383-1381317300-1381321800@www.longislandpeace.org
SUMMARY:Crisis in Syria: David Wildman at Hofstra
DESCRIPTION:International Scene Lecture Series\nCRISIS IN SYRIA: Diplomacy or War?\nfeaturing David Wildman \n \n16 Oct 2013\, Hofstra University\nEast Library Wing\, 2nd floor (room 246\, Axinn Library)\nCommon Hour (11:15am-12:30pm) \nFOLLOWED BY VIGIL COMMEMORATING ANNIVERSARY OF ONGOING U.S.-LED “CONFLICT” IN AFGHANISTAN (12:30pm\, in front of Hofstra Hall) \nSponsored by:\nHofstra’s Cultural Center\nHofstra’s Departments of History\, Economics\, and Sociology\n…in cooperation with:\nLong Island Alliance for Peaceful Alternatives\nCenter for Civic Engagement\nLong Island Teachers for Human Rights
URL:https://www.longislandpeace.org/event/crisisinsyria/
LOCATION:Hofstra University\, Axinn Library\, Room 246 
CATEGORIES:Lectures,Panels,Talks
ORGANIZER;CN="LI Alliance & CCE":MAILTO:longislandpeace@gmail.com
END:VEVENT
BEGIN:VEVENT
DTSTART;TZID=America/New_York:20131002T111500
DTEND;TZID=America/New_York:20131002T123000
DTSTAMP:20260424T045733
CREATED:20130930T171117Z
LAST-MODIFIED:20140802T175227Z
UID:377-1380712500-1380717000@www.longislandpeace.org
SUMMARY:Annual Day of Peace and Nonviolence at Hofstra
DESCRIPTION:
URL:https://www.longislandpeace.org/event/october-2nd-day-of-peace-and-nonviolence-at-hofstra/
LOCATION:Hofstra University\, Axinn Library \, Hempstead\, United States
CATEGORIES:Lectures,Talks
ORGANIZER;CN="LI Alliance":MAILTO:longislandpeace@gmail.com
END:VEVENT
BEGIN:VEVENT
DTSTART;TZID=America/New_York:20130918T110000
DTEND;TZID=America/New_York:20130918T123000
DTSTAMP:20260424T045733
CREATED:20130914T170118Z
LAST-MODIFIED:20140802T175246Z
UID:348-1379502000-1379507400@www.longislandpeace.org
SUMMARY:Unchecked Capitalism and the Apocalypse: Robert Jensen at Hofstra
DESCRIPTION:Fall 2013 International Scene Lecture Series: Issues of Domestic and Global Secutiry\npresents\nUNCHECKED CAPITALISM AND THE APOCALYPSE \nRSVP here: https://www.facebook.com/events/587798171264138/  \nLocation: Hofstra University\, 900 Fulton Avenue\, Hempstead\, New York 11549\nGuthart Cultural Center Theater\, Axinn Library\, South Campus \nSpeaker: Robert Jensen\, Professor of Journalism\, University of Texas\nhttp://mwcnews.net/component/comprofiler/userprofile/RobertJensen.html \nHosts: Hofstra’s Departments of Economics\, History\, and Sociology in cooperation with\nHofstra’s Center for Civic Engagement\, Long Island Teachers for Human Rights\,\nHofstra’s Cultural Center and the\nLong Island Alliance for Peaceful Alternatives \nInternational Scene Co-Directors: Hofstra Professors Carolyn Eisenberg\, Linda Longmire\,\nand Martin Melkonian \nFor more information\, call (516) 463-5595 \n 
URL:https://www.longislandpeace.org/event/unchecked-unchecked-capitalism-and-the-apocalypse-robert-jensen-at-hofstra-university/
LOCATION:Cultural Center Theater\, Hofstra University \, Hempstead\, NY\, 11549\, United States
CATEGORIES:Lectures,Talks
END:VEVENT
BEGIN:VEVENT
DTSTART;TZID=America/New_York:20130621T090000
DTEND;TZID=America/New_York:20130621T210000
DTSTAMP:20260424T045733
CREATED:20130617T192810Z
LAST-MODIFIED:20130617T193157Z
UID:274-1371805200-1371848400@www.longislandpeace.org
SUMMARY:Global Days of Listening\, Friday June 21
DESCRIPTION:
URL:https://www.longislandpeace.org/event/global-days-of-listening-friday-june-21/
LOCATION:CW Post morning\, Hofstra evening\, United States
CATEGORIES:Talks
END:VEVENT
BEGIN:VEVENT
DTSTART;TZID=America/New_York:20130517T190000
DTEND;TZID=America/New_York:20130517T210000
DTSTAMP:20260424T045733
CREATED:20130516T200632Z
LAST-MODIFIED:20130516T200809Z
UID:253-1368817200-1368824400@www.longislandpeace.org
SUMMARY:Medea Benjamin\, Friday\, May 17\, Book Revue in Huntington
DESCRIPTION:Friday\, May 17 at 7 PM meet Medea Benjamin at Book Revue 313 New York Ave. Huntington.  FREE!!! NO ADMISSION FEE. \nMedea is promoting her new book about DRONE WARFARE. If you can\, please come to support  and encourage her as she draws attention to this new form of warfare that is terrorizing so many innocent persons. PaxChristiLongIsland@gmail.com
URL:https://www.longislandpeace.org/event/medea-benjamin-friday-may-17-book-revue-in-huntington/
LOCATION:Book Revue\, Hungtington
CATEGORIES:Talks
END:VEVENT
END:VCALENDAR