BEGIN:VCALENDAR
VERSION:2.0
PRODID:-//Long Island Alliance for Peaceful Alternatives - ECPv6.15.20//NONSGML v1.0//EN
CALSCALE:GREGORIAN
METHOD:PUBLISH
X-ORIGINAL-URL:https://www.longislandpeace.org
X-WR-CALDESC:Events for Long Island Alliance for Peaceful Alternatives
REFRESH-INTERVAL;VALUE=DURATION:PT1H
X-Robots-Tag:noindex
X-PUBLISHED-TTL:PT1H
BEGIN:VTIMEZONE
TZID:America/New_York
BEGIN:DAYLIGHT
TZOFFSETFROM:-0500
TZOFFSETTO:-0400
TZNAME:EDT
DTSTART:20130310T070000
END:DAYLIGHT
BEGIN:STANDARD
TZOFFSETFROM:-0400
TZOFFSETTO:-0500
TZNAME:EST
DTSTART:20131103T060000
END:STANDARD
BEGIN:DAYLIGHT
TZOFFSETFROM:-0500
TZOFFSETTO:-0400
TZNAME:EDT
DTSTART:20140309T070000
END:DAYLIGHT
BEGIN:STANDARD
TZOFFSETFROM:-0400
TZOFFSETTO:-0500
TZNAME:EST
DTSTART:20141102T060000
END:STANDARD
BEGIN:DAYLIGHT
TZOFFSETFROM:-0500
TZOFFSETTO:-0400
TZNAME:EDT
DTSTART:20150308T070000
END:DAYLIGHT
BEGIN:STANDARD
TZOFFSETFROM:-0400
TZOFFSETTO:-0500
TZNAME:EST
DTSTART:20151101T060000
END:STANDARD
BEGIN:DAYLIGHT
TZOFFSETFROM:-0500
TZOFFSETTO:-0400
TZNAME:EDT
DTSTART:20160313T070000
END:DAYLIGHT
BEGIN:STANDARD
TZOFFSETFROM:-0400
TZOFFSETTO:-0500
TZNAME:EST
DTSTART:20161106T060000
END:STANDARD
END:VTIMEZONE
BEGIN:VEVENT
DTSTART;TZID=America/New_York:20151001T190000
DTEND;TZID=America/New_York:20151001T203000
DTSTAMP:20260424T021157
CREATED:20150929T172321Z
LAST-MODIFIED:20151001T053754Z
UID:847-1443726000-1443731400@www.longislandpeace.org
SUMMARY:Day of Nonviolence Commemoration
DESCRIPTION:Please join us as we celebrate the annual International Day of Nonviolence. \nThursday\, October 1st\nHofstra University – Cultural Center Theater\n7pm – FREE & OPEN TO PUBLIC \nPerformances by Hofstra a capella groups\, Makin’ Treble and Hofbeats\nSpecial performance by The Peace Poets!\nhttp://thepeacepoets.com/\nhttps://www.facebook.com/ThePeacePoets \nRemarks by Professor Michael D’Innocenzo\, distinguished Professor of History Emeritus and Founding Member of the Hofstra Center for Civic Engagement
URL:https://www.longislandpeace.org/event/oct-1-day-of-nonviolence-commemoration-at-hofstra/
LOCATION:Hofstra University\, Cultural Center Theater\, Hempstead\, NY\, United States
CATEGORIES:Actions,Talks
END:VEVENT
BEGIN:VEVENT
DTSTART;TZID=America/New_York:20150523T100000
DTEND;TZID=America/New_York:20150523T120000
DTSTAMP:20260424T021157
CREATED:20150519T165739Z
LAST-MODIFIED:20151001T053854Z
UID:775-1432375200-1432382400@www.longislandpeace.org
SUMMARY:Annual Memorial Day Vigil
DESCRIPTION:A day of rememberance and commitment to end war.
URL:https://www.longislandpeace.org/event/memorial-day-vigil-may-23-at-jones-beach-at-10-a-m/
LOCATION:Jones Beach\, Long Island
CATEGORIES:Actions,Vigil
ORGANIZER;CN="Pax Christi LI ":MAILTO:paxchristili@aol.com 
END:VEVENT
BEGIN:VEVENT
DTSTART;TZID=America/New_York:20150423T180000
DTEND;TZID=America/New_York:20150423T200000
DTSTAMP:20260424T021157
CREATED:20150408T161151Z
LAST-MODIFIED:20150408T161151Z
UID:764-1429812000-1429819200@www.longislandpeace.org
SUMMARY:Peace Fellows
DESCRIPTION:
URL:https://www.longislandpeace.org/event/peace-fellows-8/
LOCATION:NY
END:VEVENT
BEGIN:VEVENT
DTSTART;VALUE=DATE:20150422
DTEND;VALUE=DATE:20150423
DTSTAMP:20260424T021157
CREATED:20150408T161122Z
LAST-MODIFIED:20150408T161122Z
UID:763-1429660800-1429747199@www.longislandpeace.org
SUMMARY:Earth Day
DESCRIPTION:More information coming soon.
URL:https://www.longislandpeace.org/event/earth-day/
LOCATION:NY
CATEGORIES:Actions,Debates,Lectures,Panels,Screenings,Talks
END:VEVENT
BEGIN:VEVENT
DTSTART;TZID=America/New_York:20150416T180000
DTEND;TZID=America/New_York:20150416T200000
DTSTAMP:20260424T021157
CREATED:20150408T161000Z
LAST-MODIFIED:20150408T161000Z
UID:762-1429207200-1429214400@www.longislandpeace.org
SUMMARY:Peace Fellows
DESCRIPTION:
URL:https://www.longislandpeace.org/event/peace-fellows-7/
LOCATION:NY
END:VEVENT
BEGIN:VEVENT
DTSTART;TZID=America/New_York:20150412T120000
DTEND;TZID=America/New_York:20150412T160000
DTSTAMP:20260424T021157
CREATED:20150408T160912Z
LAST-MODIFIED:20150408T160912Z
UID:759-1428840000-1428854400@www.longislandpeace.org
SUMMARY:Justice for Kenny Lazo Rally
DESCRIPTION:April 12th\, 2015 marks the 7th year anniversary of Kenny Lazo’s police murder by 5 Suffolk County police officers (Chris Talt\, William Judge\, John Newton\, James Scimone and Joseph Link). \nEvery year the Justice for Kenny Coalition hosts Long Island’s only annual anti-Police Brutality march on the island that is far too familiar with racial profiling\, police abuse\, corruption\, and murder. \nThis year like every year we will be hosting the Annual March on Long Island Against Police Brutality on Sunday\, April 12th\, 2015\, from 12PM-4PM\, meeting outside the Suffolk County Police Department\, 3rd Precinct at 1630 5th Avenue in Bay Shore\, Long Island\, New York. \nFor folks living in NYC\, we provide FREE bus transportation every year so that you can come participate in this powerful rally. Reserve your bus tickets at: http://justiceforkenny.org/ \nCome out and join us for this year’s annual march and sign up early to help us with outreach\, fundraising and organizing! With the recent emergence of police brutality in the spotlight nationwide\, we want this year to be the biggest march yet!
URL:https://www.longislandpeace.org/event/justice-for-kenny-lazo-rally/
LOCATION:Suffolk County Police Department\, 3rd Precint\, 1630 5th Ave\, Bay Shore
CATEGORIES:Actions,Vigil
END:VEVENT
BEGIN:VEVENT
DTSTART;TZID=America/New_York:20150411T120000
DTEND;TZID=America/New_York:20150411T160000
DTSTAMP:20260424T021157
CREATED:20150408T160405Z
LAST-MODIFIED:20150408T160520Z
UID:756-1428753600-1428768000@www.longislandpeace.org
SUMMARY:Economic and Social Justice Rally
DESCRIPTION:The North Country Peace Group will be hosting their annual March and Rally for peace and for Economic and Social Justice will be held this Saturday in Port Jefferson. \nWe will march through Port Jefferson\, carrying signs\, distributing literature\, and speaking with the many shoppers and passersby. At the conclusion of the march\, we will rally.  We have scheduled four main speakers. Following these speakers\, there will be an open mic\, for brief speeches.  You or a member of your group will be welcome to speak to the gathering.\nWe will have plenty of signs to share\, but do feel free to bring your own signs or banners if you would like.\nPlease keep in mind that\, if there is substantial rain on the 11th\, we will hold the march and rally on the 12th. If we must postpone\, we will indicate this on our Facebook page\, at facebook.com/NorthCountryPeaceGroup.
URL:https://www.longislandpeace.org/event/economic-and-social-justice-rally/
LOCATION:Port Jefferson
CATEGORIES:Actions,Vigil
END:VEVENT
BEGIN:VEVENT
DTSTART;TZID=America/New_York:20150411T110000
DTEND;TZID=America/New_York:20150411T150000
DTSTAMP:20260424T021157
CREATED:20150408T160031Z
LAST-MODIFIED:20150408T160031Z
UID:755-1428750000-1428764400@www.longislandpeace.org
SUMMARY:Pax Christi's LI Peace Awards
DESCRIPTION:The brunch will take place on Saturday\, April 11\, starting at 11 AM\, at the Unitarian Universalist Congregation at Shelter Rock\, 48 Shelter Rock Road\, Manhasset. This joyful celebration of dedicated peacemakers is not a fund-raising event. So the admission if free. But we’ll have a little basket available\, just in case you want to drop in a free-will offering\, to help defray the costs. Whether you choose to use that basket or not\, we do hope you’ll come and join us. \nFor more information\, please visit: http://www.paxchristilongisland.org/
URL:https://www.longislandpeace.org/event/pax-christis-li-peace-awards/
LOCATION:NY
CATEGORIES:Talks
END:VEVENT
BEGIN:VEVENT
DTSTART;TZID=America/New_York:20150402T180000
DTEND;TZID=America/New_York:20150402T200000
DTSTAMP:20260424T021157
CREATED:20150408T155751Z
LAST-MODIFIED:20150408T155751Z
UID:754-1427997600-1428004800@www.longislandpeace.org
SUMMARY:Peace Fellows
DESCRIPTION:
URL:https://www.longislandpeace.org/event/peace-fellows-6/
LOCATION:NY
END:VEVENT
BEGIN:VEVENT
DTSTART;TZID=America/New_York:20150326T180000
DTEND;TZID=America/New_York:20150326T200000
DTSTAMP:20260424T021157
CREATED:20150408T155718Z
LAST-MODIFIED:20150408T155718Z
UID:753-1427392800-1427400000@www.longislandpeace.org
SUMMARY:Peace Fellows
DESCRIPTION:
URL:https://www.longislandpeace.org/event/peace-fellows-5/
LOCATION:NY
END:VEVENT
BEGIN:VEVENT
DTSTART;VALUE=DATE:20150324
DTEND;VALUE=DATE:20150327
DTSTAMP:20260424T021157
CREATED:20150408T155641Z
LAST-MODIFIED:20150408T155641Z
UID:752-1427155200-1427414399@www.longislandpeace.org
SUMMARY:George W. Bush Conference
DESCRIPTION:Hofstra University is pleased to announce that its Conference on the George W. Bush Presidency will take place March 24-26\, 2015. Hofstra has a long and distinguished tradition of hosting conferences on the administrations of all the Presidents of the United States who have served during the University’s lifetime\, from Franklin Delano Roosevelt forward. During each conference\, Hofstra brings together scholars\, policy makers\, and journalists for a series of panels and roundtables to discuss a president’s campaign\, political leadership\, policy agenda\, and legacy. The University has published volumes of selected articles and commentary from every conference\, which have become standard scholarly volumes and early oral histories of each presidency. \nFor a full list of speakers\, biographies\, and a schedule\, please visit: http://www.hofstra.edu/Community/culctr/gwb/gwb-program.html
URL:https://www.longislandpeace.org/event/george-w-bush-conference/
LOCATION:NY
CATEGORIES:Actions,Debates,Lectures,Panels,Talks
END:VEVENT
BEGIN:VEVENT
DTSTART;TZID=America/New_York:20150319T180000
DTEND;TZID=America/New_York:20150319T200000
DTSTAMP:20260424T021157
CREATED:20150408T155443Z
LAST-MODIFIED:20150408T155443Z
UID:751-1426788000-1426795200@www.longislandpeace.org
SUMMARY:Peace Fellows
DESCRIPTION:
URL:https://www.longislandpeace.org/event/peace-fellows-4/
LOCATION:NY
END:VEVENT
BEGIN:VEVENT
DTSTART;TZID=America/New_York:20150318T110000
DTEND;TZID=America/New_York:20150318T123000
DTSTAMP:20260424T021157
CREATED:20150408T154958Z
LAST-MODIFIED:20150408T154958Z
UID:745-1426676400-1426681800@www.longislandpeace.org
SUMMARY:Iraq War Anniversary Vigil
DESCRIPTION:On the eve of the anniversary of the invasion into Iraq\, please join us as we commemorate the losses of this war. \n Our student volunteers have organized a vigil that will include readings\, music\, and signs to remember both US and Iraqi lives that have been lost because of war. We also call on an stop to President Obama’s new authorization to use military force in Iraq again! \n Wedesday\, March 18th\n 11:15 – 12:30pm (Common Hour)\n Outside Hofstra Hall\, Hofstra University\, South Side campus
URL:https://www.longislandpeace.org/event/iraq-war-anniversary-vigil/
LOCATION:NY
CATEGORIES:Vigil
END:VEVENT
BEGIN:VEVENT
DTSTART;TZID=America/New_York:20150312T180000
DTEND;TZID=America/New_York:20150312T200000
DTSTAMP:20260424T021157
CREATED:20150408T155353Z
LAST-MODIFIED:20150408T155353Z
UID:750-1426183200-1426190400@www.longislandpeace.org
SUMMARY:Peace Fellows
DESCRIPTION:
URL:https://www.longislandpeace.org/event/peace-fellows-3/
LOCATION:NY
END:VEVENT
BEGIN:VEVENT
DTSTART;VALUE=DATE:20150311
DTEND;VALUE=DATE:20150312
DTSTAMP:20260424T021157
CREATED:20150408T155133Z
LAST-MODIFIED:20150408T155133Z
UID:746-1426032000-1426118399@www.longislandpeace.org
SUMMARY:Globalization Day
DESCRIPTION:For a full list of events\, please visit: http://www.hofstra.edu/Academics/Colleges/HCLAS/CCE/cce_events_globalizationday.html
URL:https://www.longislandpeace.org/event/globalization-day-2/
LOCATION:Hofstra University\, Hempstead
CATEGORIES:Debates,Lectures,Panels,Talks
END:VEVENT
BEGIN:VEVENT
DTSTART;VALUE=DATE:20150311
DTEND;VALUE=DATE:20150312
DTSTAMP:20260424T021157
CREATED:20150217T035015Z
LAST-MODIFIED:20150217T035015Z
UID:731-1426032000-1426118399@www.longislandpeace.org
SUMMARY:Globalization Day
DESCRIPTION:
URL:https://www.longislandpeace.org/event/globalization-day/
LOCATION:NY
CATEGORIES:Actions,Debates,Lectures,Panels,Screenings,Talks,Vigil
END:VEVENT
BEGIN:VEVENT
DTSTART;TZID=America/New_York:20150226T180000
DTEND;TZID=America/New_York:20150226T200000
DTSTAMP:20260424T021157
CREATED:20150408T155255Z
LAST-MODIFIED:20150408T155255Z
UID:749-1424973600-1424980800@www.longislandpeace.org
SUMMARY:Peace Fellows
DESCRIPTION:
URL:https://www.longislandpeace.org/event/peace-fellows-2/
LOCATION:NY
END:VEVENT
BEGIN:VEVENT
DTSTART;TZID=America/New_York:20150226T180000
DTEND;TZID=America/New_York:20150226T200000
DTSTAMP:20260424T021157
CREATED:20150217T034948Z
LAST-MODIFIED:20150217T034948Z
UID:730-1424973600-1424980800@www.longislandpeace.org
SUMMARY:Peace Fellows
DESCRIPTION:
URL:https://www.longislandpeace.org/event/peace-fellows/
LOCATION:NY
CATEGORIES:Actions,Talks
END:VEVENT
BEGIN:VEVENT
DTSTART;TZID=America/New_York:20150226T080000
DTEND;TZID=America/New_York:20150226T140000
DTSTAMP:20260424T021157
CREATED:20150408T154752Z
LAST-MODIFIED:20150408T154752Z
UID:743-1424937600-1424959200@www.longislandpeace.org
SUMMARY:Immigration Summit
DESCRIPTION:On February 26\, Long Island Wins and the Center for Civic Engagement at Hofstra will host “Long Island at a turning Point – It’s Everyone’s Opportunity\,” a summit on immigration. Here we will aim to define the future direction of immigrant inclusion and integration for our region by building strategies for making the most of our region’s diversity as it relates to the opportunities presented by President Obama’s administrative relief program on immigration. \nRSVP here: http://www.celebrations.com/rsvp/gqxbjq782navzr54i
URL:https://www.longislandpeace.org/event/immigration-summit/
LOCATION:Hofstra University\, Hempstead
CATEGORIES:Debates,Lectures,Panels,Screenings,Talks
END:VEVENT
BEGIN:VEVENT
DTSTART;TZID=America/New_York:20150219T180000
DTEND;TZID=America/New_York:20150219T200000
DTSTAMP:20260424T021157
CREATED:20150203T025121Z
LAST-MODIFIED:20150208T181142Z
UID:722-1424368800-1424376000@www.longislandpeace.org
SUMMARY:Peace Fellows Orientation
DESCRIPTION:
URL:https://www.longislandpeace.org/event/peace-fellows-orientation/
LOCATION:NY
END:VEVENT
BEGIN:VEVENT
DTSTART;TZID=America/New_York:20150212T180000
DTEND;TZID=America/New_York:20150212T200000
DTSTAMP:20260424T021157
CREATED:20150203T024811Z
LAST-MODIFIED:20150211T140748Z
UID:718-1423764000-1423771200@www.longislandpeace.org
SUMMARY:Peace Matters FEB. 12 CANCELLED
DESCRIPTION:
URL:https://www.longislandpeace.org/event/peace-matters/
LOCATION:Brower Hall 104\, Hofstra University
CATEGORIES:Talks
END:VEVENT
BEGIN:VEVENT
DTSTART;TZID=America/New_York:20150211T145500
DTEND;TZID=America/New_York:20150211T162000
DTSTAMP:20260424T021157
CREATED:20150203T025044Z
LAST-MODIFIED:20150208T181022Z
UID:720-1423666500-1423671600@www.longislandpeace.org
SUMMARY:Fifty Years After Selma with Les Payne
DESCRIPTION:International Scene Spring 2015 Lecture \nHofstra University’s INTERNATIONAL SCENE\, Center for Civic Engagement\, The Cultural Center\, The Provost’s Office\, LI Teachers for Human Rights\, Departments of Economics\, History and Sociology\, Greater Uniondale Area Action Coalition\, Peace Fellows Program and The Long Island Alliance for Peaceful Alternatives invite you to a program with \nLES PAYNE\, Pulitzer Prize -winning journalist\, and former Newsday columnist\,                             is currently working on biography of Malcolm X. \nFIFTY YEARS AFTER SELMA: \nWhat would Martin Luther King Jr. \nand Malcolm X Say about Race Matters Today \nFebruary 11\, 2015 at 2:55 p.m.\nCutural Center Theater\, Axinn Library \nFor more information:\nMartin Melkonian\, Economics\, 516-463-5595
URL:https://www.longislandpeace.org/event/fifty-years-after-selma-with-les-payne/
LOCATION:Cultural Center Theater\, Hofstra University
END:VEVENT
BEGIN:VEVENT
DTSTART;TZID=America/New_York:20141120T163000
DTEND;TZID=America/New_York:20141120T180000
DTSTAMP:20260424T021157
CREATED:20141116T190800Z
LAST-MODIFIED:20141116T190800Z
UID:710-1416501000-1416506400@www.longislandpeace.org
SUMMARY:Nuclear Energy Debate
DESCRIPTION:Hofstra Cultural Center and the Office of University Relations in collaboration with the Sustainability Studies Program and Department of Rhetoric present: \nShould Nuclear Energy Be Expanded to Help Create a More Sustainable Future? \nThursday\, November 20th\, 2014 \n4:30-6pm in the Cultural Center Theater\, Hofstra University \n 
URL:https://www.longislandpeace.org/event/nuclear-energy-debate/
LOCATION:NY
CATEGORIES:Debates
END:VEVENT
BEGIN:VEVENT
DTSTART;TZID=America/New_York:20141113T180000
DTEND;TZID=America/New_York:20141113T200000
DTSTAMP:20260424T021157
CREATED:20141109T202402Z
LAST-MODIFIED:20141109T202402Z
UID:702-1415901600-1415908800@www.longislandpeace.org
SUMMARY:Peace Matters @ Hofstra
DESCRIPTION:
URL:https://www.longislandpeace.org/event/peace-matters-hofstra/
LOCATION:101 Brower Hall\, Hofstra University
CATEGORIES:Talks
END:VEVENT
BEGIN:VEVENT
DTSTART;VALUE=DATE:20141029
DTEND;VALUE=DATE:20141030
DTSTAMP:20260424T021157
CREATED:20141007T031433Z
LAST-MODIFIED:20141018T155722Z
UID:676-1414540800-1414627199@www.longislandpeace.org
SUMMARY:Hofstra’s Day of Dialogue
DESCRIPTION:  \nHofstra University’s Center for Civic Engagement\nDay of Dialogue\, October 29\, 2014\nSocial Responsibility and Human Security  \n  \n9:05-10:10 AM\, Cultural Center Theater\nDefining and Inspiring Civic Engagement\, Social Responsibility\, and Human Security \n \n9:30-11:00 AM\, Student Center Theater\nReexamining Presidential leadership on Civil Rights 60 years after Brown vs BOE and 50 years after the Civil Rights Act\nModerator: Prof. Meena Bose\, Dept. of Political Science\, Director\, Peter S. Kalikow Center  \nHoward Dean\, Ed Rollins\, Political Commentators\nNikole Hannah-Jones\, Pro-Publica \n \n10:10-11:05 AM\, Cultural Center Theater\nPolice-Community Relations in the Wake of Ferguson and What Would Dr. King Do in Ferguson and 2014 America? \nJason Starr\, New York Civil Liberties Union\nProf. Michael D’Innocenzo\, The Harry H. Wachtel Distinguished Professor for the Study of Non-Violent Social Change \n \n11:15-12:40 PM\, Cultural Center Theater\n“Game Over: How Politics Has Always Turned the Sports World Upside Down” \nDave Zirin\, sports journalist\nIntroduction by Prof. Mary Anne Trasciatti \, School of Communications \n \n12:50-1:45 PM\, Plaza Room West\nRevitalizing Hofstra’s Community with Smart Growth:   \nModerator:  Jeannine Maynard\, Greater Uniondale Area Action Committee \nProf. Kari Jensen\, Dept. of Global Studies and Geography\nScott Smith\, CEO\, GreenWay Environmental\nEdward Hagenmiller\, Hofstra alumnus\nJoanna Soares\, Hofstra student \n \n12:50-1:45 PM\, Cultural Center Theater\nThe Gaza Crisis and its Aftermath \nModerator: Prof. Carolyn Eisenberg\, Dept. of History\nJosh Ruebner\, National Advocacy Director of the US Campaign to End the Israeli Occupation\,  Washington\, D.C.\nProf. Stephanie Nanes\, Dept. of Political Science \n \n1:55-2:50 PM\, Cultural Center Theater\nUnderstanding ISIS:  Politics\, Religion and the Media  \nModerator: Prof. Hussein Rashid\, Dept. of Religion\, Hofstra University\nDr. Janine Davidson\, Senior Fellow for Defense Policy\, Council on Foreign Relations\nHaroon Moghul\, Fellow\, Institute for Social Policy and Understanding \n \n2:55-4:20 PM\, Cultural Center Theater\nEvaluation of Obama’s Foreign Policy: Ukraine\, the Middle East   \nModerator: Prof. Paul Fritz\, Dept. of Political Science\nRobert Parry\, Consortium News\nDr. Janine Davidson\, Senior Fellow\, Council on Foreign Relations \n \n2:55-4:20 PM\, Library 246\nSocial Responsibility and Human Security:  The Vital Role of Community Organizations \nModerator:  Prof. Greg Maney\, Dept. of Sociology\, Co-Director\, Center for Civic Engagement \n \n4:25-5:55 PM\, Cultural Center Theater\nLong-Term Peace Prospects in the Mideast  \nModerator: Prof. Carolyn Eisenberg\, HU Dept. of History\nJosh Ruebner\, National Advocacy Director of the US Campaign to End the Israeli Occupation\, Washington\, D.C.\nProf. Monroe Freedman\, Hofstra University School of Law \n5:15-6:10 PM\, Library 246\nClimate March Roundtable: A Call for Action \nModerator:  Prof. Robert Brinkmann\, HU Dept. of Sustainability Studies\nwith Climate March participants \n6:20-7:45 PM\, Library 246\nPolitical Fix:  How Do We Get American Politics Back on Track? and “Think 2040” \nProf. Michael D’Innocenzo\, The Harry H. Wachtel Distinguished Teaching Professor for the Study of Non-Violent Social Change\nLydia Bowers\, Roosevelt Institute\nAlyssa O’Brien\, Hofstra University student\n \n8:00 PM\, Library 246\nCampus Conversation: Sexual Violence on College Campuses \n  \n  \nFor more information contact Prof. Linda Longmire\, Linda.A.Longmire@hofstra.edu or Brianna Borresen\, bborre4@pride.hofstra.edu
URL:https://www.longislandpeace.org/event/day-of-dialogue/
LOCATION:Hofstra University\, Hempstead
CATEGORIES:Actions,Debates,Lectures,Panels,Screenings,Talks
END:VEVENT
BEGIN:VEVENT
DTSTART;TZID=America/New_York:20141023T180000
DTEND;TZID=America/New_York:20141023T200000
DTSTAMP:20260424T021157
CREATED:20141007T031306Z
LAST-MODIFIED:20141015T033914Z
UID:674-1414087200-1414094400@www.longislandpeace.org
SUMMARY:Peace Matters at Hofstra
DESCRIPTION:
URL:https://www.longislandpeace.org/event/peace-matters-at-hofstra-2/
LOCATION:Brower Hall Rm. 101\, Hofstra University\, Hempstead
CATEGORIES:Actions,Screenings,Talks
END:VEVENT
BEGIN:VEVENT
DTSTART;TZID=America/New_York:20141023T133000
DTEND;TZID=America/New_York:20141023T150000
DTSTAMP:20260424T021157
CREATED:20141020T004611Z
LAST-MODIFIED:20141020T004611Z
UID:689-1414071000-1414076400@www.longislandpeace.org
SUMMARY:Workshop at Adelphi University
DESCRIPTION:Executive Director Margaret Melkonian and Peace board member Michael D’Innocenzo will be working with Adelphi University’s Political Science department to facilitate the US Role in the World on October 23rd at 1:30pm \nSuggested Readings:\n1. Michael J. Mazarr\,  “The Risks of Ignoring Strategic Insolvency\,” http://csis.org/files/publication/twq12FallMazarr.pdf \n2.Excerpt from Andrew Bacevich’s book\, “The Limits of Power: The End of American Exceptionalism”\nhttp://www.pbs.org/moyers/journal/08152008/profile2.html \n3. Stephen M. Walt\, “Is Barack Obama More of a Realist than I am?”\nhttp://www.foreignpolicy.com/articles/2014/08/19/is_barack_obama_more_of_a_realist_than_i_am_stephen_m_walt_iraq_russia_gaza
URL:https://www.longislandpeace.org/event/workshop-at-adelphi-university/
LOCATION:University Center room 313\, Adelphi University
CATEGORIES:Debates,Talks
END:VEVENT
BEGIN:VEVENT
DTSTART;TZID=America/New_York:20141008T111500
DTEND;TZID=America/New_York:20141008T123000
DTSTAMP:20260424T021157
CREATED:20140923T230326Z
LAST-MODIFIED:20140929T152729Z
UID:654-1412766900-1412771400@www.longislandpeace.org
SUMMARY:Aftermath of Gaza - Peter Beinart
DESCRIPTION:The Aftermath of the Gaza: Prospects for Peace between Israel and the Palestinians\nPeter Beinhart\, Professor of Journalism\, City University of New York \n11:15 a.m -12:30 p.m Guthart Cultural center Theater\, Hofstra University \nFree Admission \nMore Information: 516-463-5595 \nInternational Scene Co- Directors: Professors Martin Melkonian\, Linda Longmire and Caroyln Eisenberg 
URL:https://www.longislandpeace.org/event/aftermath-of-gaza-peter-beinart/
LOCATION:NY
CATEGORIES:Lectures,Panels,Talks
END:VEVENT
BEGIN:VEVENT
DTSTART;TZID=America/New_York:20141002T190000
DTEND;TZID=America/New_York:20141002T210000
DTSTAMP:20260424T021157
CREATED:20140923T225219Z
LAST-MODIFIED:20140924T201755Z
UID:648-1412276400-1412283600@www.longislandpeace.org
SUMMARY:Int'l Day of Nonviolence w/ The Peace Poets
DESCRIPTION:International Day of Nonviolence \nRemarks by Michael D’Innocenzo\, Harry Wachtel Distinguished Teaching Professor for the Study of Non-Violent Social Change\, on “We Are the Ones We Have Been Waiting For” \nFollowed by a performance by The Peace Poets\, a collective of artists from the Bronx that celebrate\, examine\, and advocate for life through music and poetry. \n7pm – Cultural Center Theater\, Hofstra University
URL:https://www.longislandpeace.org/event/intl-day-of-nonviolence-w-the-peace-poets/
LOCATION:NY
CATEGORIES:Actions,Lectures,Talks
END:VEVENT
BEGIN:VEVENT
DTSTART;TZID=America/New_York:20140924T111500
DTEND;TZID=America/New_York:20140924T123000
DTSTAMP:20260424T021158
CREATED:20140923T224544Z
LAST-MODIFIED:20140923T230527Z
UID:646-1411557300-1411561800@www.longislandpeace.org
SUMMARY:A Conversation on the Use of Military Force - Carolyn Eisenberg
DESCRIPTION:A Conversation on the Use of Military Force\nwith Professor Carolyn Eisenberg and Hofstra students \nA short excerpt of Bill Moyers’ Interview with Andrew Bacevich will be shown. \n11:15 a.m -12:30 p.m Guthart Cultural Center Theater\, Hofstra University \nFree Admission \nMore Information: 516-463-5595 \nInternational Scene Co- Directors: Professors Martin Melkonian\, Linda Longmire and Caroyln Eisenberg 
URL:https://www.longislandpeace.org/event/a-conversation-on-the-use-of-military-force-carolyn-eisenberg/
LOCATION:Cultural Center Theater\, Hofstra University
CATEGORIES:Lectures,Panels,Talks
END:VEVENT
END:VCALENDAR